BEGIN:VCALENDAR
VERSION:2.0
PRODID:Events Booking
BEGIN:VEVENT
UID:69e82cfab305e
SUMMARY:Cesar / Göztepe
DESCRIPTION:
 
 
 
 
 
 
 KUG - SOLOISTS - NIGHT
 Žan Cesar &amp\;
  Band
 Ipek Göztepe &amp\; Band
 
 
 
 
 
 
 
LOCATION:Grieskai 74a\, 8020 Graz
DTSTART:20240612T180000Z
DTSTAMP:20260422T040546Z
ORGANIZER:MAILTO:tickets@tubes-music.at
GEO:47.062323;15.4334
X-APPLE-STRUCTURED-LOCATION;VALUE=URI;X-ADDRESS=Grieskai 74a\, 8020 Graz;X-
 APPLE-RADIUS=72;X-TITLE=Tube's:47.062323;15.4334
END:VEVENT
END:VCALENDAR