BEGIN:VCALENDAR
VERSION:2.0
PRODID:Events Booking
BEGIN:VEVENT
UID:69e9fdbabb503
SUMMARY:Big Band West
DESCRIPTION:
 Leiter: Izidor Leitinger\, Elmar Berger
 Rhythmusgruppe: Be
 njamin Foris (keys)\, Bernd Leski (guit)\, Tjan Sostaric (b)\, Elmar Berge
 r (dr)\, Pablo Pertone (perc) Holzbläser: Anton Prettler (as1)\, Blaž St
 arc (as2)\, Markus Adam (ts)\, Armin Grundner (ts)\, Anna Gollien (bs) Tro
 mpeten: Thomas Polz-Lari\, Christian Mörth\, Franz Scheifler\, Sandra Mas
 ser-Körbisch\, Gerlinde Patsch Posaunen: Felix Jahrbacher\, Mario Schnur\
 , Manfred Stoiser\, Bernhard Neumaier Gesang: Olha Chernyshova\,&nbsp\;Rol
 and Schmidt\, Michael Zuzanek
 
LOCATION:Grieskai 74a\, 8020 Graz
DTSTART:20221123T190000Z
DTSTAMP:20260423T130842Z
ORGANIZER:MAILTO:tickets@tubes-music.at
GEO:47.062323;15.4334
X-APPLE-STRUCTURED-LOCATION;VALUE=URI;X-ADDRESS=Grieskai 74a\, 8020 Graz;X-
 APPLE-RADIUS=72;X-TITLE=Tube's:47.062323;15.4334
END:VEVENT
END:VCALENDAR