BEGIN:VCALENDAR
VERSION:2.0
PRODID:Events Booking
BEGIN:VEVENT
UID:69e7b4c0ccc36
SUMMARY:Big Band West
DESCRIPTION:
 
 
 
 
 
 
 Organisation: Elmar BergerMusical Director
 :&nbsp\;Bernhard NeumaierSaxophone:&nbsp\;Blaž Starc (as)\,&nbsp\;Martin 
 Krankenedl (as)\,&nbsp\;Milos Kostar (ts)\, Sarah Mörth (ts)\, Anna Golli
 en (bs)Trompeten:&nbsp\;Tobias Sudi\, Thomas Polz-Lari\, Stefanie Pirhofer
 \, Sandra Masser-Körbisch\, Gerlinde PatschPosaunen:&nbsp\;Robert Orthabe
 r\, Felix Jahrbacher\, Mario Schnur\, Hansjörg ArndtRhythm&nbsp\;Section:
 &nbsp\;Benjamin Foris (keys)\, Bernd Leski (guit)\, Domagoj Ivankovic (b)\
 , Elmar Berger (dr)Gesang:&nbsp\;Charlie Kainz\, Babsi Schutting
 
 
 
 
 
 
 
 
 
LOCATION:Grieskai 74a\, 8020 Graz
DTSTART:20241125T190000Z
DTSTAMP:20260421T193248Z
ORGANIZER:MAILTO:tickets@tubes-music.at
GEO:47.062323;15.4334
X-APPLE-STRUCTURED-LOCATION;VALUE=URI;X-ADDRESS=Grieskai 74a\, 8020 Graz;X-
 APPLE-RADIUS=72;X-TITLE=Tube's:47.062323;15.4334
END:VEVENT
END:VCALENDAR