BEGIN:VCALENDAR
VERSION:2.0
PRODID:Events Booking
BEGIN:VEVENT
UID:69e8d34295554
SUMMARY:Big Band West
DESCRIPTION:
 
 
 
 
 Big Band West - Winterkonzert - 2023
 Conducted
  by Izidor LeitingerOrganization: Elmar Berger\, drums
 
 
 
 
 
LOCATION:Grieskai 74a\, 8020 Graz
DTSTART:20231115T190000Z
DTSTAMP:20260422T155514Z
ORGANIZER:MAILTO:tickets@tubes-music.at
GEO:47.062323;15.4334
X-APPLE-STRUCTURED-LOCATION;VALUE=URI;X-ADDRESS=Grieskai 74a\, 8020 Graz;X-
 APPLE-RADIUS=72;X-TITLE=Tube's:47.062323;15.4334
END:VEVENT
END:VCALENDAR