BEGIN:VCALENDAR
VERSION:2.0
PRODID:Events Booking
BEGIN:VEVENT
UID:69e967446782a
SUMMARY:Big Band Graz Süd
DESCRIPTION:Tanja Filipovic&nbsp\;- vocErwin Adelmann&nbsp\;- voc
 
 
 
 
 &nbsp\;
 
 
 
LOCATION:Grieskai 74a\, 8020 Graz
DTSTART:20230505T180000Z
DTSTAMP:20260423T022644Z
ORGANIZER:MAILTO:tickets@tubes-music.at
GEO:47.062323;15.4334
X-APPLE-STRUCTURED-LOCATION;VALUE=URI;X-ADDRESS=Grieskai 74a\, 8020 Graz;X-
 APPLE-RADIUS=72;X-TITLE=Tube's:47.062323;15.4334
END:VEVENT
END:VCALENDAR