BEGIN:VCALENDAR
VERSION:2.0
PRODID:Events Booking
BEGIN:VEVENT
UID:69e8d1a83fadd
SUMMARY:Barionda Saxophone Quartet
DESCRIPTION:
 
 
 
 GamsbART presents - Austrian Soundcheck ´23
 &nbs
 p\;
 
 Helga Plankensteiner&nbsp\;- baritone saxMassimiliano Milesi - ba
 ritone saxRossano Emili - baritone saxGiorgio Beberi - baritone sax
 Maur
 o Beggio -&nbsp\;bassZeno De Rossi - drums
 
 
 
 
 
LOCATION:Grieskai 74a\, 8020 Graz
DTSTART:20231111T190000Z
DTSTAMP:20260422T154824Z
ORGANIZER:MAILTO:tickets@tubes-music.at
GEO:47.062323;15.4334
X-APPLE-STRUCTURED-LOCATION;VALUE=URI;X-ADDRESS=Grieskai 74a\, 8020 Graz;X-
 APPLE-RADIUS=72;X-TITLE=Tube's:47.062323;15.4334
END:VEVENT
END:VCALENDAR