BEGIN:VCALENDAR
VERSION:2.0
PRODID:Events Booking
BEGIN:VEVENT
UID:69e74ec8c92e8
SUMMARY:Intertwined Trees
DESCRIPTION:
 
 
 
 
 Jim Hart (GB) - VibrafonHeinrich von Kalnein (D/
 A) – Flöte\, AltflöteSophie Min (AUS) – Piano
 presented by GamsbAR
 T
 
 
 
 
 
LOCATION:Grieskai 74a\, 8020 Graz
DTSTART:20250314T190000Z
DTSTAMP:20260421T121744Z
ORGANIZER:MAILTO:tickets@tubes-music.at
GEO:47.062323;15.4334
X-APPLE-STRUCTURED-LOCATION;VALUE=URI;X-ADDRESS=Grieskai 74a\, 8020 Graz;X-
 APPLE-RADIUS=72;X-TITLE=Tube's:47.062323;15.4334
END:VEVENT
END:VCALENDAR