BEGIN:VCALENDAR
VERSION:2.0
PRODID:Events Booking
BEGIN:VEVENT
UID:69e7ce926cb9c
SUMMARY:Julian Argüelles - Quartet
DESCRIPTION:
 
 
 
 
 
 
 Julian Argüelles – saxesAnil Bilgen&nbs
 p\;– pianoMorten Ramsbøl - bassChris Smith&nbsp\;- drums
 
 
 
 
 
 
 
 
LOCATION:Grieskai 74a\, 8020 Graz
DTSTART:20241018T180000Z
DTSTAMP:20260421T212258Z
ORGANIZER:MAILTO:tickets@tubes-music.at
GEO:47.062323;15.4334
X-APPLE-STRUCTURED-LOCATION;VALUE=URI;X-ADDRESS=Grieskai 74a\, 8020 Graz;X-
 APPLE-RADIUS=72;X-TITLE=Tube's:47.062323;15.4334
END:VEVENT
END:VCALENDAR