BEGIN:VCALENDAR
VERSION:2.0
PRODID:Events Booking
BEGIN:VEVENT
UID:69e96a2e27ac0
SUMMARY:Jure Pukl - Anorok
DESCRIPTION:
 Jure Pukl - ts/electronicsRalph Alessi - trJoe Sanders - bas
 sFerenc Nemeth -&nbsp\;dr
 presented by: GamsbART
 
LOCATION:Grieskai 74a\, 8020 Graz
DTSTART:20230517T183000Z
DTSTAMP:20260423T023910Z
ORGANIZER:MAILTO:tickets@tubes-music.at
GEO:47.062323;15.4334
X-APPLE-STRUCTURED-LOCATION;VALUE=URI;X-ADDRESS=Grieskai 74a\, 8020 Graz;X-
 APPLE-RADIUS=72;X-TITLE=Tube's:47.062323;15.4334
END:VEVENT
END:VCALENDAR