BEGIN:VCALENDAR
VERSION:2.0
PRODID:Events Booking
BEGIN:VEVENT
UID:69e9cc4bcc6c5
SUMMARY:Zoh Amba Trio
DESCRIPTION:
 
 
 
 Zoh Amba - tenor saxophonMicah Thomas - pianoChris 
 Corsano - drums
 &nbsp\;
 presented by open music
 
 
 
 
LOCATION:Grieskai 74a\, 8020 Graz
DTSTART:20230130T190000Z
DTSTAMP:20260423T093747Z
ORGANIZER:MAILTO:tickets@tubes-music.at
GEO:47.062323;15.4334
X-APPLE-STRUCTURED-LOCATION;VALUE=URI;X-ADDRESS=Grieskai 74a\, 8020 Graz;X-
 APPLE-RADIUS=72;X-TITLE=Tube's:47.062323;15.4334
END:VEVENT
END:VCALENDAR