BEGIN:VCALENDAR
VERSION:2.0
PRODID:Events Booking
BEGIN:VEVENT
UID:69e9850f6ba42
SUMMARY:Alpine Air
DESCRIPTION:
 
 
 
 presented by GamsbART
 &nbsp\;
 
 Heinrich von K
 alnein - Tenor- &amp\; Soprano Sax\, Flöten&nbsp\;Jakob Helling - Trompet
 e\, Flügelhorn&nbsp\;Silke Eberhard - Alto Sax Klarinette&nbsp\;Alois Ebe
 rl – PosauneHanno Busch - E-GitarreSebastian Scobel - Piano&nbsp\;Gina S
 chwarz - Kontrabass&nbsp\;Reini Schmölzer - Drums&nbsp\;
 
 
 
 
 
LOCATION:Grieskai 74a\, 8020 Graz
DTSTART:20230424T180000Z
DTSTAMP:20260423T043351Z
ORGANIZER:MAILTO:tickets@tubes-music.at
GEO:47.062323;15.4334
X-APPLE-STRUCTURED-LOCATION;VALUE=URI;X-ADDRESS=Grieskai 74a\, 8020 Graz;X-
 APPLE-RADIUS=72;X-TITLE=Tube's:47.062323;15.4334
END:VEVENT
END:VCALENDAR