BEGIN:VCALENDAR
VERSION:2.0
PRODID:Events Booking
BEGIN:VEVENT
UID:69e8f1270e197
SUMMARY:Elfi Aichinger & Core
DESCRIPTION:
 
 
 
 [open music] presents
 &nbsp\;
 Elfi Aichinger - 
 piano\, vocals\, compositionJoanna Lewis - violinMelissa Coleman - celloPe
 ter Herbert - double bass
 
 
 
 
LOCATION:Grieskai 74a\, 8020 Graz
DTSTART:20231016T180000Z
DTSTAMP:20260422T180247Z
ORGANIZER:MAILTO:tickets@tubes-music.at
GEO:47.062323;15.4334
X-APPLE-STRUCTURED-LOCATION;VALUE=URI;X-ADDRESS=Grieskai 74a\, 8020 Graz;X-
 APPLE-RADIUS=72;X-TITLE=Tube's:47.062323;15.4334
END:VEVENT
END:VCALENDAR