BEGIN:VCALENDAR
VERSION:2.0
PRODID:Events Booking
BEGIN:VEVENT
UID:69eb1afcc9bd2
SUMMARY:Austrian Soundcheck - Eloá Gonçalves Trio
DESCRIPTION:Eloá Gonçalves&nbsp\;- pianoTobias Steinrück&nbsp\;- bassLu
 ís Oliveira&nbsp\;- drums
 feat: Nikola Vuković - trumpet
LOCATION:Grieskai 74a\, 8020 Graz
DTSTART:20211113T190000Z
DTSTAMP:20260424T092548Z
ORGANIZER:MAILTO:tickets@tubes-music.at
GEO:47.062323;15.4334
X-APPLE-STRUCTURED-LOCATION;VALUE=URI;X-ADDRESS=Grieskai 74a\, 8020 Graz;X-
 APPLE-RADIUS=72;X-TITLE=Tube's:47.062323;15.4334
END:VEVENT
END:VCALENDAR