BEGIN:VCALENDAR
VERSION:2.0
PRODID:Events Booking
BEGIN:VEVENT
UID:69eb1a09a5d3a
SUMMARY:Austrian Soundcheck - Gina Schwarz
DESCRIPTION:Gina Schwarz&nbsp\;- bass\, composition\, leaderLorenz Raab&nbs
 p\;- trumpet\, flugelhornLisa Hofmaninger&nbsp\;- soprano saxophone\, bass
  clarinetAlois Eberl&nbsp\;- trombone Florian Sighartner - violin Clemens 
 Sainitzer&nbsp\;- cello Christopher Pawluk&nbsp\;- guitarPhilipp Nykrin&nb
 sp\;- piano Judith Schwarz&nbsp\;- drums
LOCATION:Grieskai 74a\, 8020 Graz
DTSTART:20211108T190000Z
DTSTAMP:20260424T092145Z
ORGANIZER:MAILTO:tickets@tubes-music.at
GEO:47.062323;15.4334
X-APPLE-STRUCTURED-LOCATION;VALUE=URI;X-ADDRESS=Grieskai 74a\, 8020 Graz;X-
 APPLE-RADIUS=72;X-TITLE=Tube's:47.062323;15.4334
END:VEVENT
END:VCALENDAR